Package: RTCGA.rnaseq Version: 20151101.41.0 Maintainer: Marcin Kosinski MaintainerEmail: m.p.kosinski at gmail.com git_url: https://git.bioconductor.org/packages/RTCGA.rnaseq git_branch: devel git_last_commit: 80f3b23 git_last_commit_date: 2025-10-29 09:56:55 -0500 (Wed, 29 Oct 2025)