Package: RTCGA.mutations Version: 20151101.41.0 Command: /home/biocbuild/bbs-3.23-bioc/R/bin/R CMD INSTALL RTCGA.mutations StartedAt: 2025-11-06 11:04:20 -0500 (Thu, 06 Nov 2025) EndedAt: 2025-11-06 11:07:25 -0500 (Thu, 06 Nov 2025) EllapsedTime: 185.0 seconds RetCode: 0 Status: OK