Package: RTCGA.mutations Version: 20151101.41.0 Maintainer: Marcin Kosinski MaintainerEmail: m.p.kosinski at gmail.com git_url: https://git.bioconductor.org/packages/RTCGA.mutations git_branch: devel git_last_commit: 437eb1f git_last_commit_date: 2025-10-29 09:56:52 -0500 (Wed, 29 Oct 2025)