Package: RTCGA.mRNA Version: 1.39.0 Command: /home/biocbuild/bbs-3.23-bioc/R/bin/R CMD INSTALL RTCGA.mRNA StartedAt: 2025-11-06 11:04:19 -0500 (Thu, 06 Nov 2025) EndedAt: 2025-11-06 11:04:52 -0500 (Thu, 06 Nov 2025) EllapsedTime: 33.0 seconds RetCode: 0 Status: OK