Package: RTCGA.mRNA Version: 1.39.0 Command: /home/biocbuild/bbs-3.23-bioc/R/bin/R CMD build --keep-empty-dirs --no-resave-data RTCGA.mRNA StartedAt: 2025-11-06 11:39:16 -0500 (Thu, 06 Nov 2025) EndedAt: 2025-11-06 11:39:57 -0500 (Thu, 06 Nov 2025) EllapsedTime: 41.3 seconds RetCode: 0 Status: OK PackageFile: RTCGA.mRNA_1.39.0.tar.gz PackageFileSize: 84.98 MiB