Package: RTCGA.mRNA Version: 1.39.0 Maintainer: Marcin Kosinski MaintainerEmail: m.p.kosinski at gmail.com git_url: https://git.bioconductor.org/packages/RTCGA.mRNA git_branch: devel git_last_commit: b385193 git_last_commit_date: 2025-10-29 09:57:32 -0500 (Wed, 29 Oct 2025)