Package: RTCGA.PANCAN12 Version: 1.39.0 Maintainer: Marcin Kosinski MaintainerEmail: m.p.kosinski at gmail.com git_url: https://git.bioconductor.org/packages/RTCGA.PANCAN12 git_branch: devel git_last_commit: 4526368 git_last_commit_date: 2025-10-29 09:57:35 -0500 (Wed, 29 Oct 2025)