Package: RTCGA.CNV Version: 1.39.0 Command: /home/biocbuild/bbs-3.23-bioc/R/bin/R CMD INSTALL RTCGA.CNV StartedAt: 2025-11-06 11:04:14 -0500 (Thu, 06 Nov 2025) EndedAt: 2025-11-06 11:04:31 -0500 (Thu, 06 Nov 2025) EllapsedTime: 17.3 seconds RetCode: 0 Status: OK