Package: PathNetData Version: 1.47.0 Command: /home/biocbuild/bbs-3.23-bioc/R/bin/R CMD INSTALL PathNetData StartedAt: 2025-11-04 10:55:52 -0500 (Tue, 04 Nov 2025) EndedAt: 2025-11-04 10:55:54 -0500 (Tue, 04 Nov 2025) EllapsedTime: 1.6 seconds RetCode: 0 Status: OK