Package: PathNetData Version: 1.47.0 Maintainer: Ludwig Geistlinger MaintainerEmail: ludwig.geistlinger at gmail.com git_url: https://git.bioconductor.org/packages/PathNetData git_branch: devel git_last_commit: 8187cdb git_last_commit_date: 2025-10-29 09:52:45 -0500 (Wed, 29 Oct 2025)