Package: PasillaTranscriptExpr Version: 1.39.0 Maintainer: Malgorzata Nowicka MaintainerEmail: gosia.nowicka at uzh.ch git_url: https://git.bioconductor.org/packages/PasillaTranscriptExpr git_branch: devel git_last_commit: 55e1912 git_last_commit_date: 2025-10-29 09:58:15 -0500 (Wed, 29 Oct 2025)