Package: OnassisJavaLibs Version: 1.33.0 Maintainer: Eugenia Galeota MaintainerEmail: eugenia.galeota at gmail.com git_url: https://git.bioconductor.org/packages/OnassisJavaLibs git_branch: devel git_last_commit: 1dfe39a git_last_commit_date: 2025-10-29 09:59:24 -0500 (Wed, 29 Oct 2025)