Package: NetActivityData Version: 1.13.0 Maintainer: Carlos Ruiz-Arenas MaintainerEmail: carlos.ruiza at upf.edu git_url: https://git.bioconductor.org/packages/NetActivityData git_branch: devel git_last_commit: 28d1a6e git_last_commit_date: 2025-10-29 10:05:14 -0500 (Wed, 29 Oct 2025)