Package: MouseAgingData Version: 1.7.0 Command: /home/biocbuild/bbs-3.23-bioc/R/bin/R CMD INSTALL MouseAgingData StartedAt: 2025-11-20 10:58:23 -0500 (Thu, 20 Nov 2025) EndedAt: 2025-11-20 10:58:43 -0500 (Thu, 20 Nov 2025) EllapsedTime: 20.2 seconds RetCode: 0 Status: OK