Package: MouseAgingData Version: 1.7.0 Command: /home/biocbuild/bbs-3.23-bioc/R/bin/R CMD build --keep-empty-dirs --no-resave-data MouseAgingData StartedAt: 2025-11-20 11:31:59 -0500 (Thu, 20 Nov 2025) EndedAt: 2025-11-20 11:33:05 -0500 (Thu, 20 Nov 2025) EllapsedTime: 65.7 seconds RetCode: 0 Status: OK PackageFile: MouseAgingData_1.7.0.tar.gz PackageFileSize: 1.35 MiB