Package: MicrobiomeBenchmarkData Version: 1.13.0 Command: /home/biocbuild/bbs-3.23-bioc/R/bin/R CMD build --keep-empty-dirs --no-resave-data MicrobiomeBenchmarkData StartedAt: 2025-11-06 11:30:20 -0500 (Thu, 06 Nov 2025) EndedAt: 2025-11-06 11:31:19 -0500 (Thu, 06 Nov 2025) EllapsedTime: 59.7 seconds RetCode: 0 Status: OK PackageFile: MicrobiomeBenchmarkData_1.13.0.tar.gz PackageFileSize: 712.4 KiB