Package: MicrobiomeBenchmarkData Version: 1.13.0 Maintainer: Samuel Gamboa MaintainerEmail: Samuel.Gamboa.Tuz at gmail.com git_url: https://git.bioconductor.org/packages/MicrobiomeBenchmarkData git_branch: devel git_last_commit: f616b77 git_last_commit_date: 2025-10-29 10:05:19 -0500 (Wed, 29 Oct 2025)