Package: MetaScope Version: 1.11.0 Command: /home/biocbuild/bbs-3.23-bioc/R/bin/R CMD build --keep-empty-dirs --no-resave-data MetaScope StartedAt: 2025-11-06 11:29:53 -0500 (Thu, 06 Nov 2025) EndedAt: 2025-11-06 11:38:54 -0500 (Thu, 06 Nov 2025) EllapsedTime: 541.4 seconds RetCode: 0 Status: OK PackageFile: MetaScope_1.11.0.tar.gz PackageFileSize: 3.689 MiB