Package: MetaScope Version: 1.11.0 Maintainer: Sean Lu MaintainerEmail: seanlu96 at gmail.com git_url: https://git.bioconductor.org/packages/MetaScope git_branch: devel git_last_commit: f1f7915 git_last_commit_date: 2025-10-29 10:05:22 -0500 (Wed, 29 Oct 2025)