Package: MerfishData Version: 1.13.0 Command: /home/biocbuild/bbs-3.23-bioc/R/bin/R CMD build --keep-empty-dirs --no-resave-data MerfishData StartedAt: 2025-11-06 11:28:54 -0500 (Thu, 06 Nov 2025) EndedAt: 2025-11-06 11:37:16 -0500 (Thu, 06 Nov 2025) EllapsedTime: 501.6 seconds RetCode: 0 Status: OK PackageFile: MerfishData_1.13.0.tar.gz PackageFileSize: 24.29 MiB