Package: MUGAExampleData Version: 1.31.0 Command: /home/biocbuild/bbs-3.23-bioc/R/bin/R CMD INSTALL MUGAExampleData StartedAt: 2025-11-06 10:55:48 -0500 (Thu, 06 Nov 2025) EndedAt: 2025-11-06 10:55:51 -0500 (Thu, 06 Nov 2025) EllapsedTime: 2.3 seconds RetCode: 0 Status: OK