Package: MUGAExampleData Version: 1.31.0 Maintainer: Daniel Gatti MaintainerEmail: Dan.Gatti at jax.org git_url: https://git.bioconductor.org/packages/MUGAExampleData git_branch: devel git_last_commit: 4ad6682 git_last_commit_date: 2025-10-29 09:55:14 -0500 (Wed, 29 Oct 2025)