Package: M3DExampleData Version: 1.37.0 Command: /home/biocbuild/bbs-3.23-bioc/R/bin/R CMD INSTALL M3DExampleData StartedAt: 2025-11-04 10:55:40 -0500 (Tue, 04 Nov 2025) EndedAt: 2025-11-04 10:55:42 -0500 (Tue, 04 Nov 2025) EllapsedTime: 1.7 seconds RetCode: 0 Status: OK