Package: JASPAR2014 Version: 1.47.0 Command: /home/biocbuild/bbs-3.23-bioc/R/bin/R CMD INSTALL JASPAR2014 StartedAt: 2025-11-11 10:56:35 -0500 (Tue, 11 Nov 2025) EndedAt: 2025-11-11 10:57:05 -0500 (Tue, 11 Nov 2025) EllapsedTime: 29.7 seconds RetCode: 0 Status: OK