Package: HiContactsData Version: 1.13.0 Maintainer: Jacques Serizay MaintainerEmail: jacquesserizay at gmail.com git_url: https://git.bioconductor.org/packages/HiContactsData git_branch: devel git_last_commit: 300b55b git_last_commit_date: 2025-10-29 10:05:06 -0500 (Wed, 29 Oct 2025)