Package: HelloRangesData Version: 1.37.0 Maintainer: Michael Lawrence MaintainerEmail: lawremi at gmail.com git_url: https://git.bioconductor.org/packages/HelloRangesData git_branch: devel git_last_commit: 7fad08b git_last_commit_date: 2025-10-29 09:59:07 -0500 (Wed, 29 Oct 2025)