Package: HarmonizedTCGAData Version: 1.33.0 Command: /home/biocbuild/bbs-3.23-bioc/R/bin/R CMD INSTALL HarmonizedTCGAData StartedAt: 2025-11-27 10:56:55 -0500 (Thu, 27 Nov 2025) EndedAt: 2025-11-27 10:57:08 -0500 (Thu, 27 Nov 2025) EllapsedTime: 13.0 seconds RetCode: 0 Status: OK