Package: GeuvadisTranscriptExpr Version: 1.39.0 Command: /home/biocbuild/bbs-3.23-bioc/R/bin/R CMD INSTALL GeuvadisTranscriptExpr StartedAt: 2025-11-04 10:55:59 -0500 (Tue, 04 Nov 2025) EndedAt: 2025-11-04 10:56:03 -0500 (Tue, 04 Nov 2025) EllapsedTime: 4.0 seconds RetCode: 0 Status: OK