Package: GeuvadisTranscriptExpr Version: 1.39.0 Command: /home/biocbuild/bbs-3.23-bioc/R/bin/R CMD build --keep-empty-dirs --no-resave-data GeuvadisTranscriptExpr StartedAt: 2025-11-04 11:21:29 -0500 (Tue, 04 Nov 2025) EndedAt: 2025-11-04 11:22:03 -0500 (Tue, 04 Nov 2025) EllapsedTime: 34.2 seconds RetCode: 0 Status: OK PackageFile: GeuvadisTranscriptExpr_1.39.0.tar.gz PackageFileSize: 7.202 MiB