Package: GeuvadisTranscriptExpr Version: 1.39.0 Maintainer: Malgorzata Nowicka MaintainerEmail: gosia.nowicka at uzh.ch git_url: https://git.bioconductor.org/packages/GeuvadisTranscriptExpr git_branch: devel git_last_commit: 092c368 git_last_commit_date: 2025-10-29 09:58:13 -0500 (Wed, 29 Oct 2025)