Package: GenomicDistributionsData Version: 1.19.0 Command: /home/biocbuild/bbs-3.23-bioc/R/bin/R CMD INSTALL GenomicDistributionsData StartedAt: 2025-11-06 11:01:02 -0500 (Thu, 06 Nov 2025) EndedAt: 2025-11-06 11:01:38 -0500 (Thu, 06 Nov 2025) EllapsedTime: 36.0 seconds RetCode: 0 Status: OK