Package: GenomicDistributionsData Version: 1.19.0 Maintainer: Kristyna Kupkova MaintainerEmail: kristynakupkova at gmail.com git_url: https://git.bioconductor.org/packages/GenomicDistributionsData git_branch: devel git_last_commit: fd79329 git_last_commit_date: 2025-10-29 10:03:03 -0500 (Wed, 29 Oct 2025)