Package: FlowSorted.DLPFC.450k Version: 1.47.0 Command: /home/biocbuild/bbs-3.23-bioc/R/bin/R CMD INSTALL FlowSorted.DLPFC.450k StartedAt: 2025-11-06 11:01:38 -0500 (Thu, 06 Nov 2025) EndedAt: 2025-11-06 11:02:41 -0500 (Thu, 06 Nov 2025) EllapsedTime: 62.8 seconds RetCode: 0 Status: OK