Package: FlowSorted.CordBlood.450k Version: 1.39.0 Maintainer: Shan V. Andrews MaintainerEmail: sandre17 at jhu.edu git_url: https://git.bioconductor.org/packages/FlowSorted.CordBlood.450k git_branch: devel git_last_commit: 7defe7f git_last_commit_date: 2025-10-29 09:57:46 -0500 (Wed, 29 Oct 2025)