Package: FlowSorted.Blood.EPIC Version: 2.15.0 Command: /home/biocbuild/bbs-3.23-bioc/R/bin/R CMD INSTALL FlowSorted.Blood.EPIC StartedAt: 2025-11-06 11:01:43 -0500 (Thu, 06 Nov 2025) EndedAt: 2025-11-06 11:02:25 -0500 (Thu, 06 Nov 2025) EllapsedTime: 42.4 seconds RetCode: 0 Status: OK