Package: FlowSorted.Blood.EPIC Version: 2.15.0 Command: /home/biocbuild/bbs-3.23-bioc/R/bin/R CMD build --keep-empty-dirs --no-resave-data FlowSorted.Blood.EPIC StartedAt: 2025-11-04 11:19:36 -0500 (Tue, 04 Nov 2025) EndedAt: 2025-11-04 11:25:20 -0500 (Tue, 04 Nov 2025) EllapsedTime: 344.1 seconds RetCode: 0 Status: OK PackageFile: FlowSorted.Blood.EPIC_2.15.0.tar.gz PackageFileSize: 96.2 KiB