Package: FlowSorted.Blood.EPIC Version: 2.15.0 Maintainer: Lucas A. Salas MaintainerEmail: lucas.a.salas.diaz at dartmouth.edu git_url: https://git.bioconductor.org/packages/FlowSorted.Blood.EPIC git_branch: devel git_last_commit: ce5e87e git_last_commit_date: 2025-10-29 10:00:17 -0500 (Wed, 29 Oct 2025)