Package: FlowSorted.Blood.450k Version: 1.49.0 Maintainer: Andrew E Jaffe MaintainerEmail: andrew.jaffe at libd.org git_url: https://git.bioconductor.org/packages/FlowSorted.Blood.450k git_branch: devel git_last_commit: 0bb1304 git_last_commit_date: 2025-10-29 09:54:03 -0500 (Wed, 29 Oct 2025)