Package: FieldEffectCrc Version: 1.21.0 Maintainer: Christopher Dampier MaintainerEmail: chd5n at virginia.edu git_url: https://git.bioconductor.org/packages/FieldEffectCrc git_branch: devel git_last_commit: 9cafadd git_last_commit_date: 2025-10-29 10:02:42 -0500 (Wed, 29 Oct 2025)