Package: CytoMethIC Version: 1.7.0 Command: /home/biocbuild/bbs-3.23-bioc/R/bin/R CMD build --keep-empty-dirs --no-resave-data CytoMethIC StartedAt: 2025-11-13 11:13:27 -0500 (Thu, 13 Nov 2025) EndedAt: 2025-11-13 11:15:07 -0500 (Thu, 13 Nov 2025) EllapsedTime: 100.3 seconds RetCode: 0 Status: OK PackageFile: CytoMethIC_1.7.0.tar.gz PackageFileSize: 6.491 MiB