Package: CopyNeutralIMA Version: 1.29.0 Command: /home/biocbuild/bbs-3.23-bioc/R/bin/R CMD build --keep-empty-dirs --no-resave-data CopyNeutralIMA StartedAt: 2025-11-06 11:11:20 -0500 (Thu, 06 Nov 2025) EndedAt: 2025-11-06 11:14:46 -0500 (Thu, 06 Nov 2025) EllapsedTime: 205.8 seconds RetCode: 0 Status: OK PackageFile: CopyNeutralIMA_1.29.0.tar.gz PackageFileSize: 567 KiB