Package: CopyNeutralIMA Version: 1.29.0 Maintainer: Xavier Pastor Hostench MaintainerEmail: xavier.pastor at compbio-dev.com git_url: https://git.bioconductor.org/packages/CopyNeutralIMA git_branch: devel git_last_commit: 2a0c1c8 git_last_commit_date: 2025-10-29 10:00:30 -0500 (Wed, 29 Oct 2025)