Package: ConnectivityMap Version: 1.47.0 Command: /home/biocbuild/bbs-3.23-bioc/R/bin/R CMD INSTALL ConnectivityMap StartedAt: 2025-11-06 10:55:52 -0500 (Thu, 06 Nov 2025) EndedAt: 2025-11-06 10:55:58 -0500 (Thu, 06 Nov 2025) EllapsedTime: 6.1 seconds RetCode: 0 Status: OK