Package: ConnectivityMap Version: 1.47.0 Command: /home/biocbuild/bbs-3.23-bioc/R/bin/R CMD build --keep-empty-dirs --no-resave-data ConnectivityMap StartedAt: 2025-11-06 11:11:17 -0500 (Thu, 06 Nov 2025) EndedAt: 2025-11-06 11:11:31 -0500 (Thu, 06 Nov 2025) EllapsedTime: 14.5 seconds RetCode: 0 Status: OK PackageFile: ConnectivityMap_1.47.0.tar.gz PackageFileSize: 236.7 MiB