Package: ConnectivityMap Version: 1.47.0 Maintainer: Paul Shannon MaintainerEmail: pshannon at systemsbiology.org git_url: https://git.bioconductor.org/packages/ConnectivityMap git_branch: devel git_last_commit: 831c695 git_last_commit_date: 2025-10-29 09:53:01 -0500 (Wed, 29 Oct 2025)