Package: ChimpHumanBrainData Version: 1.49.0 Command: /home/biocbuild/bbs-3.23-bioc/R/bin/R CMD INSTALL ChimpHumanBrainData StartedAt: 2025-11-06 10:56:26 -0500 (Thu, 06 Nov 2025) EndedAt: 2025-11-06 10:56:35 -0500 (Thu, 06 Nov 2025) EllapsedTime: 8.2 seconds RetCode: 0 Status: OK