Package: ChIPexoQualExample Version: 1.35.0 Maintainer: Rene Welch MaintainerEmail: welch at stat.wisc.edu git_url: https://git.bioconductor.org/packages/ChIPexoQualExample git_branch: devel git_last_commit: b44ccfd git_last_commit_date: 2025-10-29 09:59:15 -0500 (Wed, 29 Oct 2025)