Package: CellMapperData Version: 1.37.0 Command: /home/biocbuild/bbs-3.23-bioc/R/bin/R CMD INSTALL CellMapperData StartedAt: 2025-11-06 10:57:25 -0500 (Thu, 06 Nov 2025) EndedAt: 2025-11-06 10:57:34 -0500 (Thu, 06 Nov 2025) EllapsedTime: 8.9 seconds RetCode: 0 Status: OK