Package: CellMapperData Version: 1.37.0 Maintainer: Brad Nelms MaintainerEmail: bnelms.research at gmail.com git_url: https://git.bioconductor.org/packages/CellMapperData git_branch: devel git_last_commit: 86abd0b git_last_commit_date: 2025-10-29 09:58:55 -0500 (Wed, 29 Oct 2025)