Package: CardinalWorkflows Version: 1.43.0 Maintainer: Kylie A. Bemis MaintainerEmail: k.bemis at northeastern.edu git_url: https://git.bioconductor.org/packages/CardinalWorkflows git_branch: devel git_last_commit: 366d98d git_last_commit_date: 2025-10-29 09:56:07 -0500 (Wed, 29 Oct 2025)